Workbook

Sheet Berechnungsblatt
A2: Eingabe | E2: Höhe Familieneinkommen | F2: Anmeldetage/Woche | G2: 5 Anmeldetage | H2: 4 Anmeldetage | I2: 3 Anmeldetage | J2: 2 Anmeldetage | K2: 1 Anmeldetag
A3: Bruttoeinkommen 1 | C3: 0 | E3: ab € 4.800,00 | F3: Tarif 1 | G3: =IF($B$8>1,Berechnungsblatt2!$C8*$B$8*0.8,Berechnungsblatt2!$C8) -> 0 | H3: =IF($B$8>1,Berechnungsblatt2!D8*$B$8*0.8,Berechnungsblatt2!D8) -> 0 | I3: =IF($B$8>1,Berechnungsblatt2!E8*$B$8*0.8,Berechnungsblatt2!E8) -> 0 | J3: =IF($B$8>1,Berechnungsblatt2!F8*$B$8*0.8,Berechnungsblatt2!F8) -> 0 | K3: =IF($B$8>1,Berechnungsblatt2!G8*$B$8*0.8,Berechnungsblatt2!G8) -> 0
A4: Bruttoeinkommen 2 | C4: 0 | E4: zwischen € 3.400,00 und 4.799,00 | F4: Tarif 2 | G4: =IF($B$8>1,Berechnungsblatt2!$C9*$B$8*0.8,Berechnungsblatt2!C9) -> 0 | H4: =IF($B$8>1,Berechnungsblatt2!D9*$B$8*0.8,Berechnungsblatt2!D9) -> 0 | I4: =IF($B$8>1,Berechnungsblatt2!E9*$B$8*0.8,Berechnungsblatt2!E9) -> 0 | J4: =IF($B$8>1,Berechnungsblatt2!F9*$B$8*0.8,Berechnungsblatt2!F9) -> 0 | K4: =IF($B$8>1,Berechnungsblatt2!G9*$B$8*0.8,Berechnungsblatt2!G9) -> 0
A5: sonstiges Einkommen | C5: 0 | E5: zwischen € 2.000,00 und 3.399,00 | F5: Tarif 3 | G5: =IF($B$8>1,Berechnungsblatt2!$C10*$B$8*0.8,Berechnungsblatt2!C10) -> 0 | H5: =IF($B$8>1,Berechnungsblatt2!D10*$B$8*0.8,Berechnungsblatt2!D10) -> 0 | I5: =IF($B$8>1,Berechnungsblatt2!E10*$B$8*0.8,Berechnungsblatt2!E10) -> 0 | J5: =IF($B$8>1,Berechnungsblatt2!F10*$B$8*0.8,Berechnungsblatt2!F10) -> 0 | K5: =IF($B$8>1,Berechnungsblatt2!G10*$B$8*0.8,Berechnungsblatt2!G10) -> 0
A6: sonstiges Einkommen | C6: 0 | E6: unter € 2.000,00 | F6: Tarif 4 | G6: =IF($B$8>1,Berechnungsblatt2!$C11*$B$8*0.8,Berechnungsblatt2!C11) -> 95 | H6: =IF($B$8>1,Berechnungsblatt2!D11*$B$8*0.8,Berechnungsblatt2!D11) -> 76 | I6: =IF($B$8>1,Berechnungsblatt2!E11*$B$8*0.8,Berechnungsblatt2!E11) -> 57 | J6: =IF($B$8>1,Berechnungsblatt2!F11*$B$8*0.8,Berechnungsblatt2!F11) -> 39 | K6: =IF($B$8>1,Berechnungsblatt2!G11*$B$8*0.8,Berechnungsblatt2!G11) -> 29
A7: weitere Kinder | B7: 0 | C7: =B7*-200 -> 0
A8: Kinder gesamt in GTS | B8: 0
A9: Familieneinkommen abzüglich weitere unterhaltspflichtige Kinder | C9: =C3+C4+C5+C6+C7 -> 0

Sheet Berechnungsblatt2
A1: Höhe Familieneinkommen | B1: Anmeldetage/Woche | C1: 5 Anmeldetage | D1: 4 Anmeldetage | E1: 3 Anmeldetage | F1: 2 Anmeldetage | G1: 1 Anmeldetag
A2: ab € 4.800,00 | B2: Tarif 1 | C2: 158 | D2: 126 | E2: 95 | F2: 65 | G2: 49
A3: zwischen € 3.400,00 und 4.799,00 | B3: Tarif 2 | C3: 137 | D3: 109 | E3: 82 | F3: 56 | G3: 42
A4: zwischen € 2.000,00 und 3.399,00 | B4: Tarif 3 | C4: 111 | D4: 89 | E4: 67 | F4: 46 | G4: 35
A5: unter € 2.000,00 | B5: Tarif 4 | C5: 95 | D5: 76 | E5: 57 | F5: 39 | G5: 29
A7: Höhe Familieneinkommen | B7: Anmeldetage/Woche | C7: 5 Anmeldetage | D7: 4 Anmeldetage | E7: 3 Anmeldetage | F7: 2 Anmeldetage | G7: 1 Anmeldetag
A8: ab € 4.800,00 | B8: Tarif 1 | C8: =IF(Berechnungsblatt!$C$9>=4800,C2,0) -> 0 | D8: =IF(Berechnungsblatt!$C$9>=4800,D2,0) -> 0 | E8: =IF(Berechnungsblatt!$C$9>=4800,E2,0) -> 0 | F8: =IF(Berechnungsblatt!$C$9>=4800,F2,0) -> 0 | G8: =IF(Berechnungsblatt!$C$9>=4800,G2,0) -> 0
A9: zwischen € 3.400,00 und 4.799,00 | B9: Tarif 2 | C9: =IF(AND(Berechnungsblatt!$C$9>=3400,Berechnungsblatt!$C$9<=4799),C3,0) -> 0 | D9: =IF(AND(Berechnungsblatt!$C$9>=3400,Berechnungsblatt!$C$9<=4799),D3,0) -> 0 | E9: =IF(AND(Berechnungsblatt!$C$9>=3400,Berechnungsblatt!$C$9<=4799),E3,0) -> 0 | F9: =IF(AND(Berechnungsblatt!$C$9>=3400,Berechnungsblatt!$C$9<=4799),F3,0) -> 0 | G9: =IF(AND(Berechnungsblatt!$C$9>=3400,Berechnungsblatt!$C$9<=4799),G3,0) -> 0
A10: zwischen € 2.000,00 und 3.399,00 | B10: Tarif 3 | C10: =IF(AND(Berechnungsblatt!$C$9>=2000,Berechnungsblatt!$C$9<=3399),C4,0) -> 0 | D10: =IF(AND(Berechnungsblatt!$C$9>=2000,Berechnungsblatt!$C$9<=3399),D4,0) -> 0 | E10: =IF(AND(Berechnungsblatt!$C$9>=2000,Berechnungsblatt!$C$9<=3399),E4,0) -> 0 | F10: =IF(AND(Berechnungsblatt!$C$9>=2000,Berechnungsblatt!$C$9<=3399),F4,0) -> 0 | G10: =IF(AND(Berechnungsblatt!$C$9>=2000,Berechnungsblatt!$C$9<=3399),G4,0) -> 0
A11: unter € 2.000,00 | B11: Tarif 4 | C11: =IF(Berechnungsblatt!$C$9<2000,C5,0) -> 95 | D11: =IF(Berechnungsblatt!$C$9<2000,D5,0) -> 76 | E11: =IF(Berechnungsblatt!$C$9<2000,E5,0) -> 57 | F11: =IF(Berechnungsblatt!$C$9<2000,F5,0) -> 39 | G11: =IF(Berechnungsblatt!$C$9<2000,G5,0) -> 29

Sheet Beispiele
B4: Höhe Familieneinkommen | D4: Anmeldetage/Woche | E4: Tarif 1 | F4: Tarif 2 | G4: Tarif 3 | H4: Tarif 4
B5: ab € 4.800,00 | C5: Tarif 1 | D5: 5 Anmeldetage | E5: =7.5*21 -> 157.5 | F5: =6.5*21 -> 136.5 | G5: =5.3*21 -> 111.3 | H5: =4.5*21 -> 94.5
B6: zwischen € 3.400,00 und 4.799,00 | C6: Tarif 2 | D6: 4 Anmeldetage | E6: =E5*$E$20% -> 0 | F6: =F5*$E$20% -> 0 | G6: =G5*$E$20% -> 0 | H6: =H5*$E$20% -> 0
B7: zwischen € 2.000,00 und 3.399,00 | C7: Tarif 3 | D7: 3 Anmeldetage | E7: =E5*$E$21% -> 0 | F7: =F5*$E$21% -> 0 | G7: =G5*$E$21% -> 0 | H7: =H5*$E$21% -> 0
B8: unter € 2.000,00 | C8: Tarif 4 | D8: 2 Anmeldetage | E8: =E5*$E$22% -> 0 | F8: =F5*$E$22% -> 0 | G8: =G5*$E$22% -> 0 | H8: =H5*$E$22% -> 0
D9: 1 Anmeldetage | E9: =E5*$E$23% -> 0 | F9: =F5*$E$23% -> 0 | G9: =G5*$E$23% -> 0 | H9: =H5*$E$23% -> 0
B13: Beispiele für Berechnung:
B15: Beispiel 1:
B17: Familieneinkommen beträgt € 5.100, zwei weitere unterhaltspflichtige Kinder
B19: Berechnung:
B20: Familieneinkommen | C20: 5100
B21: weiteres unterhaltspflichtiges Kind 1 | C21: -200
B22: weiteres unterhaltspflichtiges Kind 2 | C22: -200
B23: Basis für Einstufung Tarif = Brutto-Familieneinkommen | C23: =SUM(C20:C22) -> 4700 | D23: somit Anwendung Tarif 2
B26: Beispiel 2:
B28: Familieneinkommen beträgt € 5.100, ein weiteres unterhaltspflichtige Kinder
B30: Berechnung:
B31: Familieneinkommen | C31: 5100
B32: ein weiteres unterhaltspflichtiges Kind | C32: -200
B33: Familieneinkommen | C33: =SUM(C31:C32) -> 4900 | D33: somit Anwendung Tarif 1
B36: Berechnung Einordnung Tarif
B38: Familienbruttoeinkommen | G38: 5200
B39: abzüglich weiteres unterhaltspflichtiges Kind 1 | G39: -200
B40: abzüglich weiteres unterhaltspflichtiges Kind 2
B41: abzüglich weiteres unterhaltspflichtiges Kind 3
B42: abzüglich weiteres unterhaltspflichtiges Kind 4
B43: Basis für Einstufung Tarif
